BEGIN:VCALENDAR
VERSION:2.0
PRODID:-//Kick Up The 80s - ECPv6.15.20//NONSGML v1.0//EN
CALSCALE:GREGORIAN
METHOD:PUBLISH
X-WR-CALNAME:Kick Up The 80s
X-ORIGINAL-URL:https://www.kickupthe80s.com
X-WR-CALDESC:Events for Kick Up The 80s
REFRESH-INTERVAL;VALUE=DURATION:PT1H
X-Robots-Tag:noindex
X-PUBLISHED-TTL:PT1H
BEGIN:VTIMEZONE
TZID:Europe/Paris
BEGIN:DAYLIGHT
TZOFFSETFROM:+0100
TZOFFSETTO:+0200
TZNAME:CEST
DTSTART:20240331T010000
END:DAYLIGHT
BEGIN:STANDARD
TZOFFSETFROM:+0200
TZOFFSETTO:+0100
TZNAME:CET
DTSTART:20241027T010000
END:STANDARD
BEGIN:DAYLIGHT
TZOFFSETFROM:+0100
TZOFFSETTO:+0200
TZNAME:CEST
DTSTART:20250330T010000
END:DAYLIGHT
BEGIN:STANDARD
TZOFFSETFROM:+0200
TZOFFSETTO:+0100
TZNAME:CET
DTSTART:20251026T010000
END:STANDARD
BEGIN:DAYLIGHT
TZOFFSETFROM:+0100
TZOFFSETTO:+0200
TZNAME:CEST
DTSTART:20260329T010000
END:DAYLIGHT
BEGIN:STANDARD
TZOFFSETFROM:+0200
TZOFFSETTO:+0100
TZNAME:CET
DTSTART:20261025T010000
END:STANDARD
BEGIN:DAYLIGHT
TZOFFSETFROM:+0100
TZOFFSETTO:+0200
TZNAME:CEST
DTSTART:20270328T010000
END:DAYLIGHT
BEGIN:STANDARD
TZOFFSETFROM:+0200
TZOFFSETTO:+0100
TZNAME:CET
DTSTART:20271031T010000
END:STANDARD
END:VTIMEZONE
BEGIN:VTIMEZONE
TZID:Europe/London
BEGIN:DAYLIGHT
TZOFFSETFROM:+0000
TZOFFSETTO:+0100
TZNAME:BST
DTSTART:20240331T010000
END:DAYLIGHT
BEGIN:STANDARD
TZOFFSETFROM:+0100
TZOFFSETTO:+0000
TZNAME:GMT
DTSTART:20241027T010000
END:STANDARD
BEGIN:DAYLIGHT
TZOFFSETFROM:+0000
TZOFFSETTO:+0100
TZNAME:BST
DTSTART:20250330T010000
END:DAYLIGHT
BEGIN:STANDARD
TZOFFSETFROM:+0100
TZOFFSETTO:+0000
TZNAME:GMT
DTSTART:20251026T010000
END:STANDARD
BEGIN:DAYLIGHT
TZOFFSETFROM:+0000
TZOFFSETTO:+0100
TZNAME:BST
DTSTART:20260329T010000
END:DAYLIGHT
BEGIN:STANDARD
TZOFFSETFROM:+0100
TZOFFSETTO:+0000
TZNAME:GMT
DTSTART:20261025T010000
END:STANDARD
BEGIN:DAYLIGHT
TZOFFSETFROM:+0000
TZOFFSETTO:+0100
TZNAME:BST
DTSTART:20270328T010000
END:DAYLIGHT
BEGIN:STANDARD
TZOFFSETFROM:+0100
TZOFFSETTO:+0000
TZNAME:GMT
DTSTART:20271031T010000
END:STANDARD
END:VTIMEZONE
BEGIN:VEVENT
DTSTART;TZID=Europe/Paris:20260327T080000
DTEND;TZID=Europe/Paris:20260327T170000
DTSTAMP:20260423T171721
CREATED:20250307T142842Z
LAST-MODIFIED:20250402T105418Z
UID:2296-1774598400-1774630800@www.kickupthe80s.com
SUMMARY:Brierley Hill Civic Hall
DESCRIPTION:Get Tickets Here https://discover.smeetz.com/en/product/b2b/kick-up-the-80s-dj-support-until-late?referrer=preview&productId=71875
URL:https://www.kickupthe80s.com/event/brierley-hill-civic-hall/
LOCATION:Brierley Hill Civic Hall\, Bank Street\,\, Brierley Hill\, DY5 3DH\, United Kingdom
CATEGORIES:Gigs
END:VEVENT
BEGIN:VEVENT
DTSTART;TZID=Europe/Paris:20260306T190000
DTEND;TZID=Europe/Paris:20260306T235900
DTSTAMP:20260423T171721
CREATED:20251230T181712Z
LAST-MODIFIED:20251230T181712Z
UID:2624-1772823600-1772841540@www.kickupthe80s.com
SUMMARY:Metropolitan Bushey Events & Sports Venue
DESCRIPTION:https://www.metropolitanbushey.co.uk/tc-events/the-ultimate-80s-party-night/ \n\n\n\n\n\n\n\n\n\n\n\nLooking for the ultimate 80s party? This is it. Get ready for a night packed with iconic hits from our DJ and Kick Up The 80s — the UK’s longest‑running 80s tribute band — delivering a full‑throttle retro experience complete with dance floor fillers\, high‑energy performances\, dazzling costumes\, and non‑stop crowd interaction. \nWith a setlist that spans over 60 legendary artists — from Adam Ant and Madonna to Wham! and Michael Jackson — covering every genre that defined the decade. Expect New Romantic anthems\, Ska favourites\, Rock bangers\, and Synth-Pop floor-fillers that’ll keep the dancefloor buzzing all night long! \n\n\n\n\n\n5pm to 6:30pm – Happy Hour in Monty’s\n7pm – Doors Open for 80’s Disco\n8:30pm – Kick Up The 80s On Stage\n12am – Carriages\n\n\n\n\n\n\n\nOver 18’s only. \nThis is event is in our Ballroom. There will be seating areas available in the room\, but they cannot be reserved. \nFancy a pre-show drink or want to get a bite to eat? \nMonty’s Bar & Kitchen will be open if you want to come earlier than 7pm for pre-show drinks\, and food can be ordered from our Main Menu up until 9pm. \nAccessibility\nWhen booking your tickets\, please ensure you state in the special requirements section on the order form if anyone in your group has access requirements or is a wheelchair user. \nLate Bookings \nOnline ticket sales close at midnight the day before the event. If the event has not sold out and tickets are available\, they may be purchased on the door and will incur a £5 late booking fee. This is subject to availability and is under the discretion of the management.
URL:https://www.kickupthe80s.com/event/metropolitan-bushey-events-sports-venue/
LOCATION:Metropolitan Bushey Events & Sports Venue\, Aldenham Road\, Bushey\,\, Hertfordshire\, WD23 2TR\, United Kingdom
CATEGORIES:Gigs
END:VEVENT
BEGIN:VEVENT
DTSTART;TZID=Europe/London:20260206T193000
DTEND;TZID=Europe/London:20260206T193000
DTSTAMP:20260423T171721
CREATED:20250307T142002Z
LAST-MODIFIED:20251012T161857Z
UID:2293-1770406200-1770406200@www.kickupthe80s.com
SUMMARY:The Concorde Club
DESCRIPTION:
URL:https://www.kickupthe80s.com/event/the-concorde-club/
LOCATION:The Concorde Club\, The Concorde\, Stoneham Lane\, Eastleigh\, Eastleigh\, SO50 9HQ\, United Kingdom
CATEGORIES:Gigs
END:VEVENT
BEGIN:VEVENT
DTSTART;TZID=Europe/London:20251231T193000
DTEND;TZID=Europe/London:20251231T193000
DTSTAMP:20260423T171721
CREATED:20250307T140658Z
LAST-MODIFIED:20250307T140913Z
UID:2290-1767209400-1767209400@www.kickupthe80s.com
SUMMARY:Codsall Village Hall
DESCRIPTION:
URL:https://www.kickupthe80s.com/event/codsall-village-hall/
LOCATION:Codsall Village Hall\, 59 Wolverhampton Rd\, Codsall\, Wolverhampton\, WV8 1PL\, United Kingdom
CATEGORIES:Gigs
END:VEVENT
BEGIN:VEVENT
DTSTART;TZID=Europe/London:20251219T193000
DTEND;TZID=Europe/London:20251219T193000
DTSTAMP:20260423T171721
CREATED:20250307T092748Z
LAST-MODIFIED:20250307T092846Z
UID:2285-1766172600-1766172600@www.kickupthe80s.com
SUMMARY:Drayton Manor
DESCRIPTION:
URL:https://www.kickupthe80s.com/event/drayton-manor/
LOCATION:Drayton Manor\, Drayton Manor Dr\, Fazeley\, Mile Oak\,\, Tamworth\, B78 3TW\, United Kingdom
CATEGORIES:Gigs
END:VEVENT
BEGIN:VEVENT
DTSTART;TZID=Europe/London:20251212T193000
DTEND;TZID=Europe/London:20251212T233000
DTSTAMP:20260423T171721
CREATED:20250307T085753Z
LAST-MODIFIED:20250307T093908Z
UID:2282-1765567800-1765582200@www.kickupthe80s.com
SUMMARY:Crewe Alexandra Football Club
DESCRIPTION:
URL:https://www.kickupthe80s.com/event/crewe-alexandra-football-club/
LOCATION:Crewe Alexandra Football Club\, The Mornflake Stadium\, Gresty Road\,\, Crew\, CW2 6EB\, United Kingdom
CATEGORIES:Gigs
END:VEVENT
BEGIN:VEVENT
DTSTART;TZID=Europe/Paris:20251206T080000
DTEND;TZID=Europe/Paris:20251206T170000
DTSTAMP:20260423T171721
CREATED:20250306T162846Z
LAST-MODIFIED:20250531T083618Z
UID:2279-1765008000-1765040400@www.kickupthe80s.com
SUMMARY:The Musician Leicester
DESCRIPTION:Click Here For Tickets https://www.gigantic.com/kick-up-the-80-s-tickets/leicester-the-international/2025-12-06-19-30
URL:https://www.kickupthe80s.com/event/the-musician-leicester/
LOCATION:The International\, Garden Street\, Leicester\, LE1 3UA\, United Kingdom
CATEGORIES:Gigs
END:VEVENT
BEGIN:VEVENT
DTSTART;TZID=Europe/London:20251129T193000
DTEND;TZID=Europe/London:20251129T193000
DTSTAMP:20260423T171721
CREATED:20250306T161719Z
LAST-MODIFIED:20251105T141822Z
UID:2277-1764444600-1764444600@www.kickupthe80s.com
SUMMARY:Tankersley Manor Hotel
DESCRIPTION:
URL:https://www.kickupthe80s.com/event/tankersley-manor-hotel-2/
LOCATION:Tankersley Manor Hotel\, Church Lane\, Barnsley\, S75 3DQ\, United Kingdom
CATEGORIES:Gigs
END:VEVENT
BEGIN:VEVENT
DTSTART;TZID=Europe/London:20251128T193000
DTEND;TZID=Europe/London:20251128T193000
DTSTAMP:20260423T171721
CREATED:20250306T160836Z
LAST-MODIFIED:20250306T161213Z
UID:2274-1764358200-1764358200@www.kickupthe80s.com
SUMMARY:Tankersley Manor Hotel
DESCRIPTION:
URL:https://www.kickupthe80s.com/event/tankersley-manor-hotel/
LOCATION:Tankersley Manor Hotel\, Church Lane\, Barnsley\, S75 3DQ\, United Kingdom
CATEGORIES:Gigs
END:VEVENT
BEGIN:VEVENT
DTSTART;TZID=Europe/Paris:20251108T193000
DTEND;TZID=Europe/Paris:20251108T235900
DTSTAMP:20260423T171721
CREATED:20250421T085546Z
LAST-MODIFIED:20250421T090203Z
UID:2363-1762630200-1762646340@www.kickupthe80s.com
SUMMARY:Private Party
DESCRIPTION:
URL:https://www.kickupthe80s.com/event/private-party-3/
LOCATION:The Lake At Barston\, West Midlands Golf Club\, Marsh House Farm Ln\, Barston\, Solihull\, Solihull\, United Kingdom\, B92 0LB
CATEGORIES:Gigs
END:VEVENT
BEGIN:VEVENT
DTSTART;TZID=Europe/Paris:20251101T190000
DTEND;TZID=Europe/Paris:20251101T190000
DTSTAMP:20260423T171721
CREATED:20250306T154326Z
LAST-MODIFIED:20250816T211303Z
UID:2269-1762023600-1762023600@www.kickupthe80s.com
SUMMARY:The Station Cannock
DESCRIPTION:https://ticket247.co.uk/Event/a-kick-up-the-80s-at-the-station-at-the-station-cannock-428314
URL:https://www.kickupthe80s.com/event/the-station-cannock-2/
LOCATION:The Station Cannock\, Stafford Road\, Cannock\, WS11 1WS\, United Kingdom
CATEGORIES:Gigs
END:VEVENT
BEGIN:VEVENT
DTSTART;TZID=Europe/London:20251018T193000
DTEND;TZID=Europe/London:20251018T193000
DTSTAMP:20260423T171721
CREATED:20250306T153839Z
LAST-MODIFIED:20250402T105940Z
UID:2266-1760815800-1760815800@www.kickupthe80s.com
SUMMARY:The Birdwell Barnsley
DESCRIPTION:Get Tickets Here https://birdwellvenue.com/event/928342-KickUpThe80s \nWanna Party?\nIf you love the 80’s era then Kick Up The 80’s is the band for you…\nNot “just another” 80’s tribute band.\nKick Up The 80’s put together a fun\, high energy show featuring a varied set full of faithfully recreated 80’s classics from across the decade.\nFormed in 1999\, with 25 years experience of performing sell out shows across the country\, Kick up the 80’s are the UK’s Premier\, longest running and most popular live tribute to the 80’s.\nOver their 2+ decades performing together the seasoned four piece have appeared with 80’S LEGENDS such as; ABC\, GO WEST\, BAD MANNERS\, LIMAHL (KAJAGOOGOO) and JAKI GRAHAM and are still the best 80’s party in town!\nCovering all 80’s music genres from ELECTRO\, NEW ROMANTIC\, SKA and BIG HAIR ROCK\, there’s something to please everyone!!\nAll this assures Kick Up The 80’s are “The Ultimate 80’s Party”
URL:https://www.kickupthe80s.com/event/the-birdwell-barnsley/
LOCATION:The Birdwell\, Sheffield Rd\, Birdwell\, Barnsley\, S70 5UY\, United Kingdom
CATEGORIES:Gigs
END:VEVENT
BEGIN:VEVENT
DTSTART;TZID=Europe/Paris:20251011T213000
DTEND;TZID=Europe/Paris:20251011T235500
DTSTAMP:20260423T171721
CREATED:20250402T104542Z
LAST-MODIFIED:20250402T104542Z
UID:2342-1760218200-1760226900@www.kickupthe80s.com
SUMMARY:The Central Bar & Venue Ibstock
DESCRIPTION:https://www.ticketsource.co.uk/whats-on/ibstock/the-central-bar-venue-ibstock/a-kick-up-the-80-s-live-band/e-kzxajr
URL:https://www.kickupthe80s.com/event/the-central-bar-venue-ibstock/
LOCATION:The Central Bar & Venue Ibstock\, 28 Central Avenue\, Ibstock\, LE67 6NF\, United Kingdom
CATEGORIES:Gigs
END:VEVENT
BEGIN:VEVENT
DTSTART;TZID=Europe/London:20250920T193000
DTEND;TZID=Europe/London:20250920T193000
DTSTAMP:20260423T171721
CREATED:20250306T145034Z
LAST-MODIFIED:20250306T150838Z
UID:2261-1758396600-1758396600@www.kickupthe80s.com
SUMMARY:The Robin Bilston
DESCRIPTION:
URL:https://www.kickupthe80s.com/event/the-robin-bilston-2/
LOCATION:The Robin\, The Robin Hotel\, 28 Mount Pleasant\, Woverhampton\, WV14 7LJ\, United Kingdom
CATEGORIES:Gigs
END:VEVENT
BEGIN:VEVENT
DTSTART;TZID=Europe/London:20250628T193000
DTEND;TZID=Europe/London:20250628T193000
DTSTAMP:20260423T171721
CREATED:20250306T144235Z
LAST-MODIFIED:20250306T144526Z
UID:2258-1751139000-1751139000@www.kickupthe80s.com
SUMMARY:The Station Cannock
DESCRIPTION:Click Here for Tickets https://ticket247.co.uk/Event/a-kick-up-the-80s-at-the-station-at-the-station-cannock-382930
URL:https://www.kickupthe80s.com/event/the-station-cannock/
LOCATION:The Station Cannock\, Stafford Road\, Cannock\, WS11 1WS\, United Kingdom
END:VEVENT
BEGIN:VEVENT
DTSTART;TZID=Europe/London:20250621T193000
DTEND;TZID=Europe/London:20250621T193000
DTSTAMP:20260423T171721
CREATED:20250306T143345Z
LAST-MODIFIED:20250306T143536Z
UID:2255-1750534200-1750534200@www.kickupthe80s.com
SUMMARY:Overstone Lakes Holiday Park
DESCRIPTION:
URL:https://www.kickupthe80s.com/event/overstone-lakes-holiday-park/
LOCATION:Overstone Lakes Holiday Park\, Ecton Lane\, Northhampton\, NN6 0BD\, United Kingdom
CATEGORIES:Gigs
END:VEVENT
BEGIN:VEVENT
DTSTART;TZID=Europe/Paris:20250613T193000
DTEND;TZID=Europe/Paris:20250613T193000
DTSTAMP:20260423T171721
CREATED:20250306T141219Z
LAST-MODIFIED:20250306T141408Z
UID:2249-1749843000-1749843000@www.kickupthe80s.com
SUMMARY:Monmore Green Wolverhampton
DESCRIPTION:Click Here for more Detail https://monmoregreyhounds.com/live-music-nights
URL:https://www.kickupthe80s.com/event/monmore-green-wolverhampton/
LOCATION:Monmore Green Wolverhampton\, Monmore Greyhound Stadium Sutherland Avenue\, Wolverhampton\, WV2 2JJ\, United Kingdom
CATEGORIES:Gigs
END:VEVENT
BEGIN:VEVENT
DTSTART;TZID=Europe/Paris:20250524T193000
DTEND;TZID=Europe/Paris:20250524T193000
DTSTAMP:20260423T171721
CREATED:20250305T201941Z
LAST-MODIFIED:20250305T202034Z
UID:2242-1748115000-1748115000@www.kickupthe80s.com
SUMMARY:The Queens Hall Nuneaton
DESCRIPTION:Click Here For Tickets https://www.ticketweb.uk/event/kick-up-the-80s-queens-hall-tickets/14136123?pl=queenshall
URL:https://www.kickupthe80s.com/event/the-queens-hall-nuneaton/
LOCATION:The Queens Hall\, 75 Queens Rd\,\, Nuneaton\, CV11 5LA\, United Kingdom
CATEGORIES:Gigs
END:VEVENT
END:VCALENDAR